BEGIN:VCALENDAR
VERSION:2.0
PRODID:-//M come Montagna - ECPv6.15.20//NONSGML v1.0//EN
CALSCALE:GREGORIAN
METHOD:PUBLISH
X-WR-CALNAME:M come Montagna
X-ORIGINAL-URL:https://mcomemontagna.it
X-WR-CALDESC:Eventi per M come Montagna
REFRESH-INTERVAL;VALUE=DURATION:PT1H
X-Robots-Tag:noindex
X-PUBLISHED-TTL:PT1H
BEGIN:VTIMEZONE
TZID:UTC
BEGIN:STANDARD
TZOFFSETFROM:+0000
TZOFFSETTO:+0000
TZNAME:UTC
DTSTART:20250101T000000
END:STANDARD
END:VTIMEZONE
BEGIN:VEVENT
DTSTART;TZID=UTC:20261114T080000
DTEND;TZID=UTC:20261114T170000
DTSTAMP:20260423T153906
CREATED:20260423T091317Z
LAST-MODIFIED:20260423T093949Z
UID:25958832-1794643200-1794675600@mcomemontagna.it
SUMMARY:Evento prova (SABATO)
DESCRIPTION:
URL:https://mcomemontagna.it/event/evento-prova-duplica/
LOCATION:Luogo test
CATEGORIES:Convegno
END:VEVENT
BEGIN:VEVENT
DTSTART;TZID=UTC:20261114T080000
DTEND;TZID=UTC:20261114T170000
DTSTAMP:20260423T153906
CREATED:20260423T100617Z
LAST-MODIFIED:20260423T100617Z
UID:25958899-1794643200-1794675600@mcomemontagna.it
SUMMARY:Evento prova 2 (SABATO)
DESCRIPTION:
URL:https://mcomemontagna.it/event/evento-prova-2-sabato/
LOCATION:Luogo test
CATEGORIES:Convegno
END:VEVENT
BEGIN:VEVENT
DTSTART;TZID=UTC:20261115T080000
DTEND;TZID=UTC:20261115T170000
DTSTAMP:20260423T153906
CREATED:20260423T083723Z
LAST-MODIFIED:20260423T094027Z
UID:25958790-1794729600-1794762000@mcomemontagna.it
SUMMARY:Evento prova (DOMENICA)
DESCRIPTION:
URL:https://mcomemontagna.it/event/evento-prova/
LOCATION:Luogo test
CATEGORIES:Convegno
END:VEVENT
END:VCALENDAR